Workbook

Sheet PRANIMET
A1: =IF(L!$A$1=1,L!G6,IF(L!$A$1=2,L!G16,L!G26)) -> Tabela 2: Pranimet | D1: Zgjedhni gjuhën: Izaberite jezik: Select language:
A2: =IF(L!$A$1=1,L!G7,IF(L!$A$1=2,L!G17,L!G27)) -> Vlerat janë në Mijëra Euro.
A8: =IF(L!$A$1=1,L!G8,IF(L!$A$1=2,L!G18,L!G28)) -> Viti | B8: =IF(L!$A$1=1,L!H8,IF(L!$A$1=2,L!H18,L!H28)) -> Viti / Muaji | C8: =IF(L!$A$1=1,L!I8,IF(L!$A$1=2,L!I18,L!I28)) -> Gjithsej Pranimet | D8: =IF(L!$A$1=1,L!J8,IF(L!$A$1=2,L!J18,L!J28)) -> Të Hyrat Buxhetore | E8: =IF(L!$A$1=1,L!K8,IF(L!$A$1=2,L!K18,L!K28)) -> Të Hyrat Tatimore | F8: =IF(L!$A$1=1,L!L8,IF(L!$A$1=2,L!L18,L!L28)) -> Tatimet direkte | G8: =IF(L!$A$1=1,L!M8,IF(L!$A$1=2,L!M18,L!M28)) -> Tatimi në të ardhura të koorporatave | H8: =IF(L!$A$1=1,L!N8,IF(L!$A$1=2,L!N18,L!N28)) -> Tatimi në të ardhura personale | ... W8: =IF(L!$A$1=1,L!AC8,IF(L!$A$1=2,L!AC18,L!AC28)) -> Tantiema | X8: Të hyrat nga interesi (kreditë për NP) | Y8: =IF(L!$A$1=1,L!AD8,IF(L!$A$1=2,L!AD18,L!AD28)) -> Dividenda | Z8: Grantet për përkrahje të buxhetit | AA8: Grante nga BE për energjinë | AB8: =IF(L!$A$1=1,L!AE8,IF(L!$A$1=2,L!AE18,L!AE28)) -> Pranimet nga Financimi | AC8: =IF(L!$A$1=1,L!AF8,IF(L!$A$1=2,L!AF18,L!AF28)) -> Pranimet tjera | AD8: =IF(L!$A$1=1,L!AG8,IF(L!$A$1=2,L!AG18,L!AG28)) -> Të hyrat e dedikuara | AE8: =IF(L!$A$1=1,L!AI8,IF(L!$A$1=2,L!AI18,L!AI28)) -> Të hyrat nga Privatizimi | AF8: Financimi i njëhershëm nga FKPK | AG8: =IF(L!$A$1=1,L!AJ8,IF(L!$A$1=2,L!AJ18,L!AJ28)) -> Kthimi i kredive nga Ndërmarrjet Publike | AH8: =IF(L!$A$1=1,L!AK8,IF(L!$A$1=2,L!AK18,L!AK28)) -> Huazimet | AI8: =IF(L!$A$1=1,L!AL8,IF(L!$A$1=2,L!AL18,L!AL28)) -> Huazimet e jashtme shtetërore | AJ8: =IF(L!$A$1=1,L!AM8,IF(L!$A$1=2,L!AM18,L!AM28)) -> Huazimet e brendëshme shtetërore | AK8: Pranimet nga grantet e pëcaktuara të donatorëve
A9: 2006 | B9: =IF(L!$A$1=1,L!B10,IF(L!$A$1=2,L!C10,L!D10)) -> 2006 Janar | C9: =D9+AB9 -> 44787.131 | D9: =E9+S9+Z9 -> 44787.131 | E9: =F9+K9+R9 -> 56207.832 | F9: =SUM(G9:J9) -> 32520.907 | G9: 7588.591 | H9: 8742.171 | I9: 375.69345 | J9: 15814.452 | K9: =L9+O9+P9+Q9 -> 23686.925 | L9: 6422.9918 | M9: =L9-N9 -> 0 | N9: 6422.9918 | O9: 2699.3514 | P9: 6240.7051 | Q9: 8323.8767 | R9: 0 | S9: =SUM(T9:Y9) -> -11420.701 | T9: -12483.851 | U9: 1063.15 | AB9: =AC9+AH9 -> 0 | AC9: =SUM(AD9:AG9) -> 0 | AH9: =SUM(AI9:AJ9) -> 0
B10: =IF(L!$A$1=1,L!B11,IF(L!$A$1=2,L!C11,L!D11)) -> 2006 Shkurt | C10: =D10+AB10 -> 42094.648 | D10: =E10+S10+Z10 -> 42094.648 | E10: =F10+K10+R10 -> 37119.217 | F10: =SUM(G10:J10) -> 8021.9582 | G10: 0 | H10: 0 | I10: 427.24213 | J10: 7594.716 | K10: =L10+O10+P10+Q10 -> 29685.46 | L10: 10553.756 | M10: =L10-N10 -> 0 | N10: 10553.756 | O10: 7744.6649 | P10: 8447.6316 | Q10: 2939.408 | R10: -588.20162 | S10: =SUM(T10:Y10) -> 4975.431 | T10: 3696.099 | U10: 1279.332 | AB10: =AC10+AH10 -> 0 | AC10: =SUM(AD10:AG10) -> 0 | AH10: =SUM(AI10:AJ10) -> 0
B11: =IF(L!$A$1=1,L!B12,IF(L!$A$1=2,L!C12,L!D12)) -> 2006 Mars | C11: =D11+AB11 -> 46828.31 | D11: =E11+S11+Z11 -> 46828.31 | E11: =F11+K11+R11 -> 39532.018 | F11: =SUM(G11:J11) -> 8578.4409 | G11: 0 | H11: 0 | I11: 624.79313 | J11: 7953.6477 | K11: =L11+O11+P11+Q11 -> 31519.476 | L11: 11970.151 | M11: =L11-N11 -> 0 | N11: 11970.151 | O11: 8471.1151 | P11: 6442.7219 | Q11: 4635.4883 | R11: -565.89859 | S11: =SUM(T11:Y11) -> 7296.2919 | T11: 5783.8449 | U11: 1512.447 | AB11: =AC11+AH11 -> 0 | AC11: =SUM(AD11:AG11) -> 0 | AH11: =SUM(AI11:AJ11) -> 0
B12: =IF(L!$A$1=1,L!B13,IF(L!$A$1=2,L!C13,L!D13)) -> 2006 Prill | C12: =D12+AB12 -> 60721.172 | D12: =E12+S12+Z12 -> 60721.172 | E12: =F12+K12+R12 -> 65658.869 | F12: =SUM(G12:J12) -> 32656.288 | G12: 8281.368 | H12: 3462.775 | I12: 650.39452 | J12: 20261.75 | K12: =L12+O12+P12+Q12 -> 33345.536 | L12: 11254.764 | M12: =L12-N12 -> 0 | N12: 11254.764 | O12: 4763.8198 | P12: 5737.5969 | Q12: 11589.355 | R12: -342.95487 | S12: =SUM(T12:Y12) -> -4937.6965 | T12: -6780.9255 | U12: 1843.229 | AB12: =AC12+AH12 -> 0 | AC12: =SUM(AD12:AG12) -> 0 | AH12: =SUM(AI12:AJ12) -> 0
B13: =IF(L!$A$1=1,L!B14,IF(L!$A$1=2,L!C14,L!D14)) -> 2006 Maj | C13: =D13+AB13 -> 60105.102 | D13: =E13+S13+Z13 -> 60105.102 | E13: =F13+K13+R13 -> 56955.874 | F13: =SUM(G13:J13) -> 15432.587 | G13: 581.527 | H13: 3941.017 | I13: 864.89425 | J13: 10045.148 | K13: =L13+O13+P13+Q13 -> 41735.522 | L13: 20235.754 | M13: =L13-N13 -> 0 | N13: 20235.754 | O13: 11817.357 | P13: 10899.473 | Q13: -1217.0622 | R13: -212.23521 | S13: =SUM(T13:Y13) -> 3149.2286 | T13: 1507.411 | U13: 1641.8176 | AB13: =AC13+AH13 -> 0 | AC13: =SUM(AD13:AG13) -> 0 | AH13: =SUM(AI13:AJ13) -> 0
B14: =IF(L!$A$1=1,L!B15,IF(L!$A$1=2,L!C15,L!D15)) -> 2006 Qershor | C14: =D14+AB14 -> 73471.296 | D14: =E14+S14+Z14 -> 73471.296 | E14: =F14+K14+R14 -> 72928.776 | F14: =SUM(G14:J14) -> 35744.339 | G14: 1540.955 | H14: 3954.759 | I14: 708.461 | J14: 29540.164 | K14: =L14+O14+P14+Q14 -> 37657.019 | L14: 21401.276 | M14: =L14-N14 -> 0 | N14: 21401.276 | O14: 11388.393 | P14: 10485.909 | Q14: -5618.5598 | R14: -472.58281 | S14: =SUM(T14:Y14) -> 542.52053 | T14: -778.45576 | U14: 1320.9763 | AB14: =AC14+AH14 -> 0 | AC14: =SUM(AD14:AG14) -> 0 | AH14: =SUM(AI14:AJ14) -> 0
B15: =IF(L!$A$1=1,L!B16,IF(L!$A$1=2,L!C16,L!D16)) -> 2006 Korrik | C15: =D15+AB15 -> 72046.309 | D15: =E15+S15+Z15 -> 72046.309 | E15: =F15+K15+R15 -> 102592.25 | F15: =SUM(G15:J15) -> 62403.662 | G15: 33710.193 | H15: 4862.921 | I15: 736.45562 | J15: 23094.092 | K15: =L15+O15+P15+Q15 -> 40233.45 | L15: 20955.935 | M15: =L15-N15 -> 0 | N15: 20955.935 | O15: 12179.291 | P15: 11173.722 | Q15: -4075.4984 | R15: -44.86022 | S15: =SUM(T15:Y15) -> -30545.943 | T15: -32174.294 | U15: 1628.3507 | AB15: =AC15+AH15 -> 0 | AC15: =SUM(AD15:AG15) -> 0 | AH15: =SUM(AI15:AJ15) -> 0
B16: =IF(L!$A$1=1,L!B17,IF(L!$A$1=2,L!C17,L!D17)) -> 2006 Gusht | C16: =D16+AB16 -> 63792.908 | D16: =E16+S16+Z16 -> 63792.908 | E16: =F16+K16+R16 -> 65024.983 | F16: =SUM(G16:J16) -> 16193.972 | G16: 1648.112 | H16: 5820.586 | I16: 741.80672 | J16: 7983.4675 | K16: =L16+O16+P16+Q16 -> 49500.502 | L16: 26256.278 | M16: =L16-N16 -> 0 | N16: 26256.278 | O16: 15423.937 | P16: 15654.52 | Q16: -7834.2333 | R16: -669.49082 | S16: =SUM(T16:Y16) -> -1232.0753 | T16: -2688.7125 | U16: 1456.6371 | AB16: =AC16+AH16 -> 0 | AC16: =SUM(AD16:AG16) -> 0 | AH16: =SUM(AI16:AJ16) -> 0
B17: =IF(L!$A$1=1,L!B18,IF(L!$A$1=2,L!C18,L!D18)) -> 2006 Shtator | C17: =D17+AB17 -> 55526.291 | D17: =E17+S17+Z17 -> 55526.291 | E17: =F17+K17+R17 -> 54401.399 | F17: =SUM(G17:J17) -> 14472.58 | G17: 1272.377 | H17: 4529.952 | I17: 571.72938 | J17: 8098.5217 | K17: =L17+O17+P17+Q17 -> 40343.999 | L17: 20692.598 | M17: =L17-N17 -> 0 | N17: 20692.598 | O17: 10956.85 | P17: 10923.059 | Q17: -2228.5078 | R17: -415.18038 | S17: =SUM(T17:Y17) -> 1124.8922 | T17: -362.73924 | U17: 1487.6315 | AB17: =AC17+AH17 -> 0 | AC17: =SUM(AD17:AG17) -> 0 | AH17: =SUM(AI17:AJ17) -> 0
B18: =IF(L!$A$1=1,L!B19,IF(L!$A$1=2,L!C19,L!D19)) -> 2006 Tetor | C18: =D18+AB18 -> 72058.759 | D18: =E18+S18+Z18 -> 72058.759 | E18: =F18+K18+R18 -> 70077.14 | F18: =SUM(G18:J18) -> 25413.33 | G18: 2163.851 | H18: 3150.349 | I18: 764.54661 | J18: 19334.584 | K18: =L18+O18+P18+Q18 -> 44830.612 | L18: 14566.938 | M18: =L18-N18 -> 0 | N18: 14566.938 | O18: 9273.2998 | P18: 7045.0743 | Q18: 13945.3 | R18: -166.80276 | S18: =SUM(T18:Y18) -> 1981.6196 | T18: 373.13783 | U18: 1608.4817 | AB18: =AC18+AH18 -> 0 | AC18: =SUM(AD18:AG18) -> 0 | AH18: =SUM(AI18:AJ18) -> 0
B19: =IF(L!$A$1=1,L!B20,IF(L!$A$1=2,L!C20,L!D20)) -> 2006 Nëntor | C19: =D19+AB19 -> 62059.597 | D19: =E19+S19+Z19 -> 62059.597 | E19: =F19+K19+R19 -> 64818.875 | F19: =SUM(G19:J19) -> 19666.47 | G19: 5991.288 | H19: 5501.817 | I19: 769.15294 | J19: 7404.2123 | K19: =L19+O19+P19+Q19 -> 45734.519 | L19: 23002.251 | M19: =L19-N19 -> 0 | N19: 23002.251 | O19: 15525.687 | P19: 11267.096 | Q19: -4060.5157 | R19: -582.11422 | S19: =SUM(T19:Y19) -> -2759.2779 | T19: -5328.516 | U19: 2569.2381 | AB19: =AC19+AH19 -> 0 | AC19: =SUM(AD19:AG19) -> 0 | AH19: =SUM(AI19:AJ19) -> 0
B20: =IF(L!$A$1=1,L!B21,IF(L!$A$1=2,L!C21,L!D21)) -> 2006 Dhjetor /1 | C20: =D20+AB20 -> 58520.754 | D20: =E20+S20+Z20 -> 58520.754 | E20: =F20+K20+R20 -> -56464.794 | F20: =SUM(G20:J20) -> -143118.48 | G20: 1420.2642 | H20: 5940.0545 | I20: 1146.0537 | J20: -151624.86 | K20: =L20+O20+P20+Q20 -> 86953.188 | L20: 71241.432 | M20: =L20-N20 -> 47771.777 | N20: 23469.655 | O20: 14038.03 | P20: 10950.524 | Q20: -9276.7981 | R20: -299.49819 | S20: =SUM(T20:Y20) -> 114985.55 | T20: 113022.92 | U20: 1962.6329 | AB20: =AC20+AH20 -> 0 | AC20: =SUM(AD20:AG20) -> 0 | AH20: =SUM(AI20:AJ20) -> 0
B21: =IF(L!$A$1=1,L!B22,IF(L!$A$1=2,L!C22,L!D22)) -> Gjithsej 2006 | C21: =D21+AB21 -> 712012.28 | D21: =E21+S21+Z21 -> 712012.28 | E21: =F21+K21+R21 -> 628852.44 | F21: =SUM(G21:J21) -> 127986.05 | G21: 64198.526 | H21: 49906.402 | I21: 8381.2234 | J21: 5499.8999 | K21: =L21+O21+P21+Q21 -> 505226.21 | L21: 258554.12 | M21: =L21-N21 -> 47771.777 | N21: 210782.35 | O21: 124281.8 | P21: 115268.03 | Q21: 7122.2528 | R21: -4359.8197 | S21: =SUM(T21:Y21) -> 83159.838 | T21: 63785.914 | U21: 19373.924 | V21: 0 | W21: 0 | X21: 0 | Y21: 0 | Z21: 0 | AB21: =AC21+AH21 -> 0 | AC21: =SUM(AD21:AG21) -> 0 | AD21: 0 | AE21: 0 | AG21: 0 | AH21: =SUM(AI21:AJ21) -> 0 | AI21: 0 | AJ21: 0 | AK21: 0
A22: 2007 | B22: =IF(L!$A$1=1,L!B23,IF(L!$A$1=2,L!C23,L!D23)) -> 2007 Janar | C22: =D22+AB22 -> 60092.741 | D22: =E22+S22+Z22 -> 60092.741 | E22: =F22+K22+R22 -> 53466.497 | F22: =SUM(G22:J22) -> 16756.546 | G22: 7718.6043 | H22: 5359.1036 | I22: 516.82257 | J22: 3162.0161 | K22: =L22+O22+P22+Q22 -> 36788.079 | L22: 16597.626 | M22: =L22-N22 -> 2270.832 | N22: 14326.794 | O22: 5401.1744 | P22: 14681.475 | Q22: 107.80389 | R22: -78.12845 | S22: =SUM(T22:Y22) -> 6626.2438 | T22: 5080 | U22: 1546.2438 | AB22: =AC22+AH22 -> 0 | AC22: =SUM(AD22:AG22) -> 0 | AH22: =SUM(AI22:AJ22) -> 0
B23: =IF(L!$A$1=1,L!B24,IF(L!$A$1=2,L!C24,L!D24)) -> 2007 Shkurt | C23: =D23+AB23 -> 130558.86 | D23: =E23+S23+Z23 -> 130558.86 | E23: =F23+K23+R23 -> 42543.755 | F23: =SUM(G23:J23) -> 5315.6737 | G23: 434.5643 | H23: 2221.6839 | I23: 505.00879 | J23: 2154.4167 | K23: =L23+O23+P23+Q23 -> 37338.854 | L23: 19013.471 | M23: =L23-N23 -> 3795.8548 | N23: 15217.617 | O23: 6181.3146 | P23: 12073.565 | Q23: 70.5038 | R23: -110.77343 | S23: =SUM(T23:Y23) -> 88015.106 | T23: 86380 | U23: 1635.1056 | AB23: =AC23+AH23 -> 0 | AC23: =SUM(AD23:AG23) -> 0 | AH23: =SUM(AI23:AJ23) -> 0
B24: =IF(L!$A$1=1,L!B25,IF(L!$A$1=2,L!C25,L!D25)) -> 2007 Mars | C24: =D24+AB24 -> 58281.716 | D24: =E24+S24+Z24 -> 58281.716 | E24: =F24+K24+R24 -> 50052.301 | F24: =SUM(G24:J24) -> 5900.753 | G24: 595.99211 | H24: 2265.1389 | I24: 622.70738 | J24: 2416.9147 | K24: =L24+O24+P24+Q24 -> 44673.636 | L24: 23477.252 | M24: =L24-N24 -> 4311.7134 | N24: 19165.539 | O24: 5719.7055 | P24: 15262.062 | Q24: 214.61683 | R24: -522.08795 | S24: =SUM(T24:Y24) -> 8229.4151 | T24: 6620 | U24: 1609.4151 | AB24: =AC24+AH24 -> 0 | AC24: =SUM(AD24:AG24) -> 0 | AH24: =SUM(AI24:AJ24) -> 0
B25: =IF(L!$A$1=1,L!B26,IF(L!$A$1=2,L!C26,L!D26)) -> 2007 Prill | C25: =D25+AB25 -> 74836.013 | D25: =E25+S25+Z25 -> 74836.013 | E25: =F25+K25+R25 -> 66346.218 | F25: =SUM(G25:J25) -> 25545.526 | G25: 16215.084 | H25: 5884.3003 | I25: 727.66762 | J25: 2718.4746 | K25: =L25+O25+P25+Q25 -> 43452.878 | L25: 23894.555 | M25: =L25-N25 -> 3796.5534 | N25: 20098.002 | O25: 6969.5749 | P25: 12492.4 | Q25: 96.348 | R25: -2652.1866 | S25: =SUM(T25:Y25) -> 8489.7955 | T25: 6510 | U25: 1979.7955 | AB25: =AC25+AH25 -> 0 | AC25: =SUM(AD25:AG25) -> 0 | AH25: =SUM(AI25:AJ25) -> 0
B26: =IF(L!$A$1=1,L!B27,IF(L!$A$1=2,L!C27,L!D27)) -> 2007 Maj | C26: =D26+AB26 -> 60026.769 | D26: =E26+S26+Z26 -> 60026.769 | E26: =F26+K26+R26 -> 52660.877 | F26: =SUM(G26:J26) -> 6011.9968 | G26: 868.54024 | H26: 1996.3089 | I26: 625.66209 | J26: 2521.4856 | K26: =L26+O26+P26+Q26 -> 46912.407 | L26: 23918.737 | M26: =L26-N26 -> 3165.4784 | N26: 20753.258 | O26: 6453.9579 | P26: 16461.551 | Q26: 78.16105 | R26: -263.52672 | S26: =SUM(T26:Y26) -> 7365.8914 | T26: 5660 | U26: 1705.8914 | AB26: =AC26+AH26 -> 0 | AC26: =SUM(AD26:AG26) -> 0 | AH26: =SUM(AI26:AJ26) -> 0
B27: =IF(L!$A$1=1,L!B28,IF(L!$A$1=2,L!C28,L!D28)) -> 2007 Qershor | C27: =D27+AB27 -> 62417.252 | D27: =E27+S27+Z27 -> 62417.252 | E27: =F27+K27+R27 -> 54986.604 | F27: =SUM(G27:J27) -> 8429.4505 | G27: 1132.2844 | H27: 2224.3169 | I27: 687.31764 | J27: 4385.5315 | K27: =L27+O27+P27+Q27 -> 47907.243 | L27: 26134.288 | M27: =L27-N27 -> 4548.9715 | N27: 21585.316 | O27: 6780.764 | P27: 14897.744 | Q27: 94.44767 | R27: -1350.0903 | S27: =SUM(T27:Y27) -> 7430.6481 | T27: 6010 | U27: 1420.6481 | AB27: =AC27+AH27 -> 0 | AC27: =SUM(AD27:AG27) -> 0 | AH27: =SUM(AI27:AJ27) -> 0
B28: =IF(L!$A$1=1,L!B29,IF(L!$A$1=2,L!C29,L!D29)) -> 2007 Korrik | C28: =D28+AB28 -> 83779.286 | D28: =E28+S28+Z28 -> 83779.286 | E28: =F28+K28+R28 -> 75553.037 | F28: =SUM(G28:J28) -> 25469.498 | G28: 15196.775 | H28: 6163.9293 | I28: 1082.4098 | J28: 3026.3835 | K28: =L28+O28+P28+Q28 -> 51867.656 | L28: 27370.928 | M28: =L28-N28 -> 4503.383 | N28: 22867.545 | O28: 6542.3728 | P28: 17809.139 | Q28: 145.21697 | R28: -1784.1166 | S28: =SUM(T28:Y28) -> 8226.249 | T28: 6620 | U28: 1606.249 | AB28: =AC28+AH28 -> 0 | AC28: =SUM(AD28:AG28) -> 0 | AH28: =SUM(AI28:AJ28) -> 0
B29: =IF(L!$A$1=1,L!B30,IF(L!$A$1=2,L!C30,L!D30)) -> 2007 Gusht | C29: =D29+AB29 -> 76621.879 | D29: =E29+S29+Z29 -> 76621.879 | E29: =F29+K29+R29 -> 68545.983 | F29: =SUM(G29:J29) -> 9396.9817 | G29: 722.38066 | H29: 2962.3451 | I29: 867.74001 | J29: 4844.516 | K29: =L29+O29+P29+Q29 -> 60243.153 | L29: 30781.952 | M29: =L29-N29 -> 3941.5527 | N29: 26840.4 | O29: 7352.0576 | P29: 21942.655 | Q29: 166.48799 | R29: -1094.1508 | S29: =SUM(T29:Y29) -> 8075.8953 | T29: 5530 | U29: 2545.8953 | AB29: =AC29+AH29 -> 0 | AC29: =SUM(AD29:AG29) -> 0 | AH29: =SUM(AI29:AJ29) -> 0
B30: =IF(L!$A$1=1,L!B31,IF(L!$A$1=2,L!C31,L!D31)) -> 2007 Shtator | C30: =D30+AB30 -> 65645.54 | D30: =E30+S30+Z30 -> 65645.54 | E30: =F30+K30+R30 -> 58064.678 | F30: =SUM(G30:J30) -> 10433.024 | G30: 6412.3098 | H30: 2074.4973 | I30: 487.21668 | J30: 1459.0005 | K30: =L30+O30+P30+Q30 -> 47708.02 | L30: 25927.341 | M30: =L30-N30 -> 4128.7816 | N30: 21798.559 | O30: 6242.4308 | P30: 15475.865 | Q30: 62.38346 | R30: -76.36643 | S30: =SUM(T30:Y30) -> 7580.8619 | T30: 5720 | U30: 1860.8619 | AB30: =AC30+AH30 -> 0 | AC30: =SUM(AD30:AG30) -> 0 | AH30: =SUM(AI30:AJ30) -> 0
B31: =IF(L!$A$1=1,L!B32,IF(L!$A$1=2,L!C32,L!D32)) -> 2007 Tetor | C31: =D31+AB31 -> 80206.527 | D31: =E31+S31+Z31 -> 80206.527 | E31: =F31+K31+R31 -> 70971.589 | F31: =SUM(G31:J31) -> 19652.77 | G31: 10808.63 | H31: 5949.3805 | I31: 513.00788 | J31: 2381.7513 | K31: =L31+O31+P31+Q31 -> 52035.267 | L31: 28191.404 | M31: =L31-N31 -> 4234.1974 | N31: 23957.207 | O31: 7727.1799 | P31: 16024.094 | Q31: 92.5889 | R31: -716.44746 | S31: =SUM(T31:Y31) -> 9234.9374 | T31: 7520 | U31: 1714.9374 | AB31: =AC31+AH31 -> 0 | AC31: =SUM(AD31:AG31) -> 0 | AH31: =SUM(AI31:AJ31) -> 0
B32: =IF(L!$A$1=1,L!B33,IF(L!$A$1=2,L!C33,L!D33)) -> 2007 Nëntor | C32: =D32+AB32 -> 65532.771 | D32: =E32+S32+Z32 -> 65532.771 | E32: =F32+K32+R32 -> 58489.524 | F32: =SUM(G32:J32) -> 6877.2532 | G32: 2460.7632 | H32: 2253.1831 | I32: 525.88025 | J32: 1637.4266 | K32: =L32+O32+P32+Q32 -> 51768.482 | L32: 26524.061 | M32: =L32-N32 -> 4556.0045 | N32: 21968.056 | O32: 7045.7452 | P32: 18054.355 | Q32: 144.32076 | R32: -156.21067 | S32: =SUM(T32:Y32) -> 7043.2474 | T32: 5620 | U32: 1423.2474 | AB32: =AC32+AH32 -> 0 | AC32: =SUM(AD32:AG32) -> 0 | AH32: =SUM(AI32:AJ32) -> 0
B33: =IF(L!$A$1=1,L!B34,IF(L!$A$1=2,L!C34,L!D34)) -> 2007 Dhjetor | C33: =D33+AB33 -> 84998.821 | D33: =E33+S33+Z33 -> 84998.821 | E33: =F33+K33+R33 -> 70752.473 | F33: =SUM(G33:J33) -> 4976.8145 | G33: 12211.464 | H33: 12613.593 | I33: 1139.0354 | J33: -20987.278 | K33: =L33+O33+P33+Q33 -> 68438.835 | L33: 41990.54 | M33: =L33-N33 -> 15530.038 | N33: 26460.502 | O33: 8791.9311 | P33: 16208.714 | Q33: 1447.6499 | R33: -2663.1761 | S33: =SUM(T33:Y33) -> 14246.348 | T33: 12358 | U33: 1888.3481 | AB33: =AC33+AH33 -> 0 | AC33: =SUM(AD33:AG33) -> 0 | AH33: =SUM(AI33:AJ33) -> 0
B34: =IF(L!$A$1=1,L!B35,IF(L!$A$1=2,L!C35,L!D35)) -> Gjithsej 2007 | C34: =D34+AB34 -> 902998.18 | D34: =E34+S34+Z34 -> 902998.18 | E34: =F34+K34+R34 -> 722433.54 | F34: =SUM(G34:J34) -> 144766.29 | G34: 74777.392 | H34: 51967.781 | I34: 8300.4762 | J34: 9720.6388 | K34: =L34+O34+P34+Q34 -> 589134.51 | L34: 313822.16 | M34: =L34-N34 -> 58783.361 | N34: 255038.79 | O34: 81208.209 | P34: 191383.62 | Q34: 2720.5292 | R34: -11467.261 | S34: =SUM(T34:Y34) -> 180564.64 | T34: 159628 | U34: 20936.639 | V34: 0 | W34: 0 | X34: 0 | Y34: 0 | Z34: 0 | AB34: =AC34+AH34 -> 0 | AC34: =SUM(AD34:AG34) -> 0 | AD34: 0 | AE34: 0 | AG34: 0 | AH34: =SUM(AI34:AJ34) -> 0 | AI34: 0 | AJ34: 0 | AK34: 0
A35: 2008 | B35: =IF(L!$A$1=1,L!B36,IF(L!$A$1=2,L!C36,L!D36)) -> 2008 Janar | C35: =D35+AB35 -> 34480.498 | D35: =E35+S35+Z35 -> 34480.498 | E35: =F35+K35+R35 -> 26781.744 | F35: =SUM(G35:J35) -> 644.33382 | G35: 149.89463 | H35: 5.07445 | I35: 486.07108 | J35: 3.29366 | K35: =L35+O35+P35+Q35 -> 30389.165 | L35: 14211.919 | M35: =L35-N35 -> 2.25233 | N35: 14209.667 | O35: 4102.6677 | P35: 11978.323 | Q35: 96.25501 | R35: -4251.7546 | S35: =SUM(T35:Y35) -> 7698.7542 | T35: 6331.2899 | U35: 1367.4643 | AB35: =AC35+AH35 -> 0 | AC35: =SUM(AD35:AG35) -> 0 | AH35: =SUM(AI35:AJ35) -> 0
B36: =IF(L!$A$1=1,L!B37,IF(L!$A$1=2,L!C37,L!D37)) -> 2008 Shkurt | C36: =D36+AB36 -> 78682.274 | D36: =E36+S36+Z36 -> 78682.274 | E36: =F36+K36+R36 -> 66251.984 | F36: =SUM(G36:J36) -> 22893.329 | G36: 11944.425 | H36: 10307.728 | I36: 333.78526 | J36: 307.39021 | K36: =L36+O36+P36+Q36 -> 43636.095 | L36: 26186.601 | M36: =L36-N36 -> 7145.607 | N36: 19040.994 | O36: 5571.0394 | P36: 11741.235 | Q36: 137.21873 | R36: -277.43938 | S36: =SUM(T36:Y36) -> 12430.29 | T36: 10769.082 | U36: 1661.2085 | AB36: =AC36+AH36 -> 0 | AC36: =SUM(AD36:AG36) -> 0 | AH36: =SUM(AI36:AJ36) -> 0
B37: =IF(L!$A$1=1,L!B38,IF(L!$A$1=2,L!C38,L!D38)) -> 2008 Mars | C37: =D37+AB37 -> 58217.27 | D37: =E37+S37+Z37 -> 58217.27 | E37: =F37+K37+R37 -> 47476.923 | F37: =SUM(G37:J37) -> 5681.4345 | G37: 1335.5473 | H37: 3748.9674 | I37: 556.39075 | J37: 40.529 | K37: =L37+O37+P37+Q37 -> 42807.963 | L37: 23359.501 | M37: =L37-N37 -> 2955.6947 | N37: 20403.806 | O37: 6306.4972 | P37: 12927.968 | Q37: 213.99656 | R37: -1012.474 | S37: =SUM(T37:Y37) -> 10740.347 | T37: 8579.8165 | U37: 2160.5304 | AB37: =AC37+AH37 -> 0 | AC37: =SUM(AD37:AG37) -> 0 | AH37: =SUM(AI37:AJ37) -> 0
B38: =IF(L!$A$1=1,L!B39,IF(L!$A$1=2,L!C39,L!D39)) -> 2008 Prill | C38: =D38+AB38 -> 94355.714 | D38: =E38+S38+Z38 -> 94355.714 | E38: =F38+K38+R38 -> 85426.637 | F38: =SUM(G38:J38) -> 34061.835 | G38: 23921.531 | H38: 8744.071 | I38: 1369.1502 | J38: 27.08256 | K38: =L38+O38+P38+Q38 -> 52045.116 | L38: 28381.418 | M38: =L38-N38 -> 5566.033 | N38: 22815.385 | O38: 7501.2221 | P38: 15899.353 | Q38: 263.12286 | R38: -680.31469 | S38: =SUM(T38:Y38) -> 8929.0776 | T38: 6699.0019 | U38: 2230.0756 | AB38: =AC38+AH38 -> 0 | AC38: =SUM(AD38:AG38) -> 0 | AH38: =SUM(AI38:AJ38) -> 0
B39: =IF(L!$A$1=1,L!B40,IF(L!$A$1=2,L!C40,L!D40)) -> 2008 Maj | C39: =D39+AB39 -> 71616.904 | D39: =E39+S39+Z39 -> 71616.904 | E39: =F39+K39+R39 -> 63342.757 | F39: =SUM(G39:J39) -> 6350.4378 | G39: 1389.0428 | H39: 3855.7279 | I39: 1091.7596 | J39: 13.90748 | K39: =L39+O39+P39+Q39 -> 60765.316 | L39: 31719.802 | M39: =L39-N39 -> 4599.9696 | N39: 27119.833 | O39: 7804.3855 | P39: 20717.476 | Q39: 523.65233 | R39: -3772.9973 | S39: =SUM(T39:Y39) -> 8274.1478 | T39: 6079.3062 | U39: 2194.8416 | AB39: =AC39+AH39 -> 0 | AC39: =SUM(AD39:AG39) -> 0 | AH39: =SUM(AI39:AJ39) -> 0
B40: =IF(L!$A$1=1,L!B41,IF(L!$A$1=2,L!C41,L!D41)) -> 2008 Qershor | C40: =D40+AB40 -> 70911.531 | D40: =E40+S40+Z40 -> 70911.531 | E40: =F40+K40+R40 -> 61017.481 | F40: =SUM(G40:J40) -> 7510.5454 | G40: 1812.135 | H40: 4302.964 | I40: 1291.5174 | J40: 103.929 | K40: =L40+O40+P40+Q40 -> 55941.613 | L40: 31189.241 | M40: =L40-N40 -> 2961.6714 | N40: 28227.57 | O40: 8697.734 | P40: 15776.803 | Q40: 277.835 | R40: -2434.6775 | S40: =SUM(T40:Y40) -> 9894.0504 | T40: 7447.8152 | U40: 2446.2353 | AB40: =AC40+AH40 -> 0 | AC40: =SUM(AD40:AG40) -> 0 | AH40: =SUM(AI40:AJ40) -> 0
B41: =IF(L!$A$1=1,L!B42,IF(L!$A$1=2,L!C42,L!D42)) -> 2008 Korrik | C41: =D41+AB41 -> 102134.65 | D41: =E41+S41+Z41 -> 102134.65 | E41: =F41+K41+R41 -> 91252.105 | F41: =SUM(G41:J41) -> 29604.972 | G41: 19683.138 | H41: 7451.4225 | I41: 1843.8313 | J41: 626.58001 | K41: =L41+O41+P41+Q41 -> 62116.77 | L41: 33513.396 | M41: =L41-N41 -> 4993.0587 | N41: 28520.337 | O41: 9024.673 | P41: 19145.358 | Q41: 433.34343 | R41: -469.63758 | S41: =SUM(T41:Y41) -> 10882.541 | T41: 8178.3941 | U41: 2704.1473 | AB41: =AC41+AH41 -> 0 | AC41: =SUM(AD41:AG41) -> 0 | AH41: =SUM(AI41:AJ41) -> 0
B42: =IF(L!$A$1=1,L!B43,IF(L!$A$1=2,L!C43,L!D43)) -> 2008 Gusht | C42: =D42+AB42 -> 73162.973 | D42: =E42+S42+Z42 -> 73162.973 | E42: =F42+K42+R42 -> 63745.8 | F42: =SUM(G42:J42) -> 5855.291 | G42: 1019.9705 | H42: 3468.5569 | I42: 1265.481 | J42: 101.28255 | K42: =L42+O42+P42+Q42 -> 58310.153 | L42: 30012.638 | M42: =L42-N42 -> 3421.9542 | N42: 26590.684 | O42: 8105.4568 | P42: 19987.31 | Q42: 204.74891 | R42: -419.64438 | S42: =SUM(T42:Y42) -> 9417.1728 | T42: 5312.3201 | U42: 4104.8527 | AB42: =AC42+AH42 -> 0 | AC42: =SUM(AD42:AG42) -> 0 | AH42: =SUM(AI42:AJ42) -> 0
B43: =IF(L!$A$1=1,L!B44,IF(L!$A$1=2,L!C44,L!D44)) -> 2008 Shtator | C43: =D43+AB43 -> 75485.626 | D43: =E43+S43+Z43 -> 75485.626 | E43: =F43+K43+R43 -> 61771.365 | F43: =SUM(G43:J43) -> 5917.7881 | G43: 1278.4819 | H43: 3506.2559 | I43: 903.50301 | J43: 229.54735 | K43: =L43+O43+P43+Q43 -> 58313.193 | L43: 33807.386 | M43: =L43-N43 -> 5545.7252 | N43: 28261.661 | O43: 8409.2364 | P43: 15723.054 | Q43: 373.51716 | R43: -2459.6166 | S43: =SUM(T43:Y43) -> 13714.262 | T43: 10842.601 | U43: 2871.6604 | AB43: =AC43+AH43 -> 0 | AC43: =SUM(AD43:AG43) -> 0 | AH43: =SUM(AI43:AJ43) -> 0
B44: =IF(L!$A$1=1,L!B45,IF(L!$A$1=2,L!C45,L!D45)) -> 2008 Tetor | C44: =D44+AB44 -> 107936.89 | D44: =E44+S44+Z44 -> 107936.89 | E44: =F44+K44+R44 -> 95360.104 | F44: =SUM(G44:J44) -> 33747.108 | G44: 24165.914 | H44: 8302.5828 | I44: 987.86177 | J44: 290.75023 | K44: =L44+O44+P44+Q44 -> 62782.233 | L44: 36301.746 | M44: =L44-N44 -> 7245.0696 | N44: 29056.677 | O44: 8900.7306 | P44: 17150.991 | Q44: 428.76568 | R44: -1169.2381 | S44: =SUM(T44:Y44) -> 12576.783 | T44: 9497.1934 | U44: 3079.5893 | AB44: =AC44+AH44 -> 0 | AC44: =SUM(AD44:AG44) -> 0 | AH44: =SUM(AI44:AJ44) -> 0
B45: =IF(L!$A$1=1,L!B46,IF(L!$A$1=2,L!C46,L!D46)) -> 2008 Nëntor | C45: =D45+AB45 -> 65139.662 | D45: =E45+S45+Z45 -> 65139.662 | E45: =F45+K45+R45 -> 57378.617 | F45: =SUM(G45:J45) -> 5502.1981 | G45: 1147.0077 | H45: 3372.5994 | I45: 863.80715 | J45: 118.78387 | K45: =L45+O45+P45+Q45 -> 53173.799 | L45: 27510.66 | M45: =L45-N45 -> 3554.6866 | N45: 23955.973 | O45: 7645.8426 | P45: 17751.197 | Q45: 266.09862 | R45: -1297.3802 | S45: =SUM(T45:Y45) -> 7761.0454 | T45: 5541.6107 | U45: 2219.4346 | AB45: =AC45+AH45 -> 0 | AC45: =SUM(AD45:AG45) -> 0 | AH45: =SUM(AI45:AJ45) -> 0
...

Sheet PAGESAT
A1: =IF(L!$A$1=1,L!G2,IF(L!$A$1=2,L!G11,L!G21)) -> Tabela 1: Pagesat | D1: Zgjedhni gjuhën: Izaberite jezik: Select language:
A2: =IF(L!$A$1=1,L!G3,IF(L!$A$1=2,L!G12,L!G22)) -> Vlerat janë në Mijëra Euro.
A3: =IF(L!$A$1=1,L!G4,IF(L!$A$1=2,L!G13,L!G23)) -> Viti | B3: =IF(L!$A$1=1,L!H4,IF(L!$A$1=2,L!H13,L!H23)) -> Viti / Muaji
C7: =IF(L!$A$1=1,L!I4,IF(L!$A$1=2,L!I13,L!I23)) -> Gjithsejt Pagesat | D7: =IF(L!$A$1=1,L!J4,IF(L!$A$1=2,L!J13,L!J23)) -> Shpenzimet | E7: =IF(L!$A$1=1,L!K4,IF(L!$A$1=2,L!K13,L!K23)) -> Qeveria Qendrore | F7: =IF(L!$A$1=1,L!L4,IF(L!$A$1=2,L!L13,L!L23)) -> Paga | G7: =IF(L!$A$1=1,L!M4,IF(L!$A$1=2,L!M13,L!M23)) -> Mallëra dhe shërbime | H7: =IF(L!$A$1=1,L!N4,IF(L!$A$1=2,L!N13,L!N23)) -> Shpenzime komunale | I7: =IF(L!$A$1=1,L!O4,IF(L!$A$1=2,L!O13,L!O23)) -> Subvencione dhe Transfere | J7: =IF(L!$A$1=1,L!P4,IF(L!$A$1=2,L!P13,L!P23)) -> Transfere Sociale | ... W7: =IF(L!$A$1=1,L!AC4,IF(L!$A$1=2,L!AC13,L!AC23)) -> Antarësimi në IFN | X7: Pagesat nga grantet e pëcaktuara të donatorëve | Y7: Paga | Z7: Mallra dhe shërbime | AA7: Shpenzime komunale | AB7: Subvencione dhe Transfere | AC7: Shpenzime Kapitale | AD7: Kthimi i donacioneve
A8: 2006 | B8: =IF(L!$A$1=1,L!B10,IF(L!$A$1=2,L!C10,L!D10)) -> 2006 Janar | C8: =D8+S8 -> 7390.549 | D8: =E8+M8 -> 7390.549 | E8: =F8+G8+H8+I8+L8 -> 7235.206 | F8: 2133.422 | G8: 1946.298 | H8: 178.532 | I8: =SUM(J8:K8) -> 2976.954 | J8: 2976.3547 | K8: 0.59925 | L8: 0 | M8: =SUM(N8:R8) -> 155.343 | N8: 6.405 | O8: 101.261 | P8: 47.677 | Q8: 0 | R8: 0 | S8: =SUM(T8:W8) -> 0 | T8: 0 | U8: 0 | V8: 0 | W8: 0
B9: =IF(L!$A$1=1,L!B11,IF(L!$A$1=2,L!C11,L!D11)) -> 2006 Shkurt | C9: =D9+S9 -> 49395.254 | D9: =E9+M9 -> 49395.254 | E9: =F9+G9+H9+I9+L9 -> 39256.04 | F9: 7712.075 | G9: 6880.746 | H9: 762.433 | I9: =SUM(J9:K9) -> 20240.117 | J9: 18694.058 | K9: 1546.0588 | L9: 3660.669 | M9: =SUM(N9:R9) -> 10139.214 | N9: 8092.956 | O9: 1320.522 | P9: 389.232 | Q9: 72.491 | R9: 264.013 | S9: =SUM(T9:W9) -> 0 | T9: 0 | U9: 0 | V9: 0 | W9: 0
B10: =IF(L!$A$1=1,L!B12,IF(L!$A$1=2,L!C12,L!D12)) -> 2006 Mars | C10: =D10+S10 -> 47207.81 | D10: =E10+M10 -> 47207.81 | E10: =F10+G10+H10+I10+L10 -> 32892.033 | F10: 8719.214 | G10: 9424.428 | H10: 1005.571 | I10: =SUM(J10:K10) -> 10848.913 | J10: 9208.6925 | K10: 1640.2205 | L10: 2893.907 | M10: =SUM(N10:R10) -> 14315.777 | N10: 8304.091 | O10: 2901.333 | P10: 888.8666 | Q10: 301.043 | R10: 1920.443 | S10: =SUM(T10:W10) -> 0 | T10: 0 | U10: 0 | V10: 0 | W10: 0
B11: =IF(L!$A$1=1,L!B13,IF(L!$A$1=2,L!C13,L!D13)) -> 2006 Prill | C11: =D11+S11 -> 58688.068 | D11: =E11+M11 -> 58688.068 | E11: =F11+G11+H11+I11+L11 -> 39702.454 | F11: 14123.197 | G11: 7755.026 | H11: 1422.885 | I11: =SUM(J11:K11) -> 13253.909 | J11: 10070.945 | K11: 3182.9636 | L11: 3147.437 | M11: =SUM(N11:R11) -> 18985.614 | N11: 15326.526 | O11: 2166.573 | P11: 626.17 | Q11: 209.212 | R11: 657.133 | S11: =SUM(T11:W11) -> 0 | T11: 0 | U11: 0 | V11: 0 | W11: 0
B12: =IF(L!$A$1=1,L!B14,IF(L!$A$1=2,L!C14,L!D14)) -> 2006 Maj | C12: =D12+S12 -> 47412.874 | D12: =E12+M12 -> 47412.874 | E12: =F12+G12+H12+I12+L12 -> 33224.327 | F12: 8681.327 | G12: 9260 | H12: 960 | I12: =SUM(J12:K12) -> 11403 | J12: 9521.2657 | K12: 1881.7343 | L12: 2920 | M12: =SUM(N12:R12) -> 14188.547 | N12: 9474.547 | O12: 1630 | P12: 740 | Q12: 224 | R12: 2120 | S12: =SUM(T12:W12) -> 0 | T12: 0 | U12: 0 | V12: 0 | W12: 0
B13: =IF(L!$A$1=1,L!B15,IF(L!$A$1=2,L!C15,L!D15)) -> 2006 Qershor | C13: =D13+S13 -> 41585.774 | D13: =E13+M13 -> 41585.774 | E13: =F13+G13+H13+I13+L13 -> 29860.876 | F13: 8853.81 | G13: 6516.729 | H13: 727.37 | I13: =SUM(J13:K13) -> 9639.257 | J13: 8471.3759 | K13: 1167.8811 | L13: 4123.71 | M13: =SUM(N13:R13) -> 11724.898 | N13: 7586.192 | O13: 1509.21 | P13: 551.816 | Q13: 357.083 | R13: 1720.597 | S13: =SUM(T13:W13) -> 0 | T13: 0 | U13: 0 | V13: 0 | W13: 0
B14: =IF(L!$A$1=1,L!B16,IF(L!$A$1=2,L!C16,L!D16)) -> 2006 Korrik | C14: =D14+S14 -> 62731.093 | D14: =E14+M14 -> 62731.093 | E14: =F14+G14+H14+I14+L14 -> 50322.085 | F14: 9271.096 | G14: 9004.848 | H14: 1232.977 | I14: =SUM(J14:K14) -> 13122.111 | J14: 11602.059 | K14: 1520.0516 | L14: 17691.053 | M14: =SUM(N14:R14) -> 12409.008 | N14: 7635.106 | O14: 1721.921 | P14: 637.568 | Q14: 204.547 | R14: 2209.866 | S14: =SUM(T14:W14) -> 0 | T14: 0 | U14: 0 | V14: 0 | W14: 0
B15: =IF(L!$A$1=1,L!B17,IF(L!$A$1=2,L!C17,L!D17)) -> 2006 Gusht | C15: =D15+S15 -> 54381.269 | D15: =E15+M15 -> 54381.269 | E15: =F15+G15+H15+I15+L15 -> 41562.98 | F15: 8487.735 | G15: 8437.721 | H15: 459.982 | I15: =SUM(J15:K15) -> 17018.734 | J15: 8689.719 | K15: 8329.015 | L15: 7158.808 | M15: =SUM(N15:R15) -> 12818.289 | N15: 8132.468 | O15: 1502.319 | P15: 410.277 | Q15: 212.564 | R15: 2560.661 | S15: =SUM(T15:W15) -> 0 | T15: 0 | U15: 0 | V15: 0 | W15: 0
B16: =IF(L!$A$1=1,L!B18,IF(L!$A$1=2,L!C18,L!D18)) -> 2006 Shtator | C16: =D16+S16 -> 31397.243 | D16: =E16+M16 -> 31397.243 | E16: =F16+G16+H16+I16+L16 -> 25217.101 | F16: 588.221 | G16: 6511.157 | H16: 321.475 | I16: =SUM(J16:K16) -> 11589.844 | J16: 10584.533 | K16: 1005.3111 | L16: 6206.404 | M16: =SUM(N16:R16) -> 6180.142 | N16: 1779.758 | O16: 1504.688 | P16: 269.904 | Q16: 181.039 | R16: 2444.753 | S16: =SUM(T16:W16) -> 0 | T16: 0 | U16: 0 | V16: 0 | W16: 0
B17: =IF(L!$A$1=1,L!B19,IF(L!$A$1=2,L!C19,L!D19)) -> 2006 Tetor | C17: =D17+S17 -> 67481.341 | D17: =E17+M17 -> 67481.341 | E17: =F17+G17+H17+I17+L17 -> 45066.253 | F17: 16966.737 | G17: 8559.625 | H17: 882.469 | I17: =SUM(J17:K17) -> 10111.071 | J17: 8659.8557 | K17: 1451.2153 | L17: 8546.351 | M17: =SUM(N17:R17) -> 22415.088 | N17: 16377.712 | O17: 1800 | P17: 667.746 | Q17: 305.118 | R17: 3264.512 | S17: =SUM(T17:W17) -> 0 | T17: 0 | U17: 0 | V17: 0 | W17: 0
B18: =IF(L!$A$1=1,L!B20,IF(L!$A$1=2,L!C20,L!D20)) -> 2006 Nëntor | C18: =D18+S18 -> 66141.004 | D18: =E18+M18 -> 66141.004 | E18: =F18+G18+H18+I18+L18 -> 49801.641 | F18: 8695.291 | G18: 8954.993 | H18: 1333.697 | I18: =SUM(J18:K18) -> 19627.718 | J18: 9253.5975 | K18: 10374.121 | L18: 11189.942 | M18: =SUM(N18:R18) -> 16339.363 | N18: 8506.363 | O18: 1855.187 | P18: 1456.36 | Q18: 206.456 | R18: 4314.997 | S18: =SUM(T18:W18) -> 0 | T18: 0 | U18: 0 | V18: 0 | W18: 0
B19: =IF(L!$A$1=1,L!B21,IF(L!$A$1=2,L!C21,L!D21)) -> 2006 Dhjetor /1 | C19: =D19+S19 -> 101671.51 | D19: =E19+M19 -> 101671.51 | E19: =F19+G19+H19+I19+L19 -> 77653.167 | F19: 9618.1811 | G19: 19716.786 | H19: 1511.7161 | I19: =SUM(J19:K19) -> 13001.979 | J19: 10298.897 | K19: 2703.0819 | L19: 33804.505 | M19: =SUM(N19:R19) -> 24018.343 | N19: 8754.443 | O19: 3674.6551 | P19: 887.27625 | Q19: 318.81761 | R19: 10383.151 | S19: =SUM(T19:W19) -> 0 | T19: 0 | U19: 0 | V19: 0 | W19: 0
B20: =IF(L!$A$1=1,L!B22,IF(L!$A$1=2,L!C22,L!D22)) -> Gjithsej 2006 | C20: =D20+S20 -> 635483.79 | D20: =E20+M20 -> 635483.79 | E20: =F20+G20+H20+I20+L20 -> 471794.16 | F20: 103850.31 | G20: 102968.36 | H20: 10799.107 | I20: =SUM(J20:K20) -> 152833.61 | J20: 118031.35 | K20: 34802.253 | L20: 101342.79 | M20: =SUM(N20:R20) -> 163689.63 | N20: 99976.567 | O20: 21687.669 | P20: 7572.8929 | Q20: 2592.3706 | R20: 31860.126 | S20: =SUM(T20:W20) -> 0 | T20: 0 | U20: 0 | V20: 0 | W20: 0
A21: 2007 | B21: =IF(L!$A$1=1,L!B23,IF(L!$A$1=2,L!C23,L!D23)) -> 2007 Janar | C21: =D21+S21 -> 16423.263 | D21: =E21+M21 -> 16423.263 | E21: =F21+G21+H21+I21+L21 -> 16343.652 | F21: 5765.556 | G21: 1229.969 | H21: 302.772 | I21: =SUM(J21:K21) -> 9021.504 | J21: 8993.7815 | K21: 27.72249 | L21: 23.851 | M21: =SUM(N21:R21) -> 79.611 | N21: 0 | O21: 54.292 | P21: 25.319 | Q21: 0 | R21: 0 | S21: =SUM(T21:W21) -> 0 | T21: 0 | U21: 0 | V21: 0 | W21: 0
B22: =IF(L!$A$1=1,L!B24,IF(L!$A$1=2,L!C24,L!D24)) -> 2007 Shkurt | C22: =D22+S22 -> 66217.493 | D22: =E22+M22 -> 66217.493 | E22: =F22+G22+H22+I22+L22 -> 48142.639 | F22: 9628.602 | G22: 7922.842 | H22: 1025.712 | I22: =SUM(J22:K22) -> 17292.507 | J22: 7308.8089 | K22: 9983.6981 | L22: 12272.976 | M22: =SUM(N22:R22) -> 18074.854 | N22: 15980.738 | O22: 1260.925 | P22: 759.032 | Q22: 0.952 | R22: 73.207 | S22: =SUM(T22:W22) -> 0 | T22: 0 | U22: 0 | V22: 0 | W22: 0
B23: =IF(L!$A$1=1,L!B25,IF(L!$A$1=2,L!C25,L!D25)) -> 2007 Mars | C23: =D23+S23 -> 52714.481 | D23: =E23+M23 -> 52714.481 | E23: =F23+G23+H23+I23+L23 -> 39686.033 | F23: 10997.999 | G23: 9100.23 | H23: 1087.187 | I23: =SUM(J23:K23) -> 13050.218 | J23: 11734.24 | K23: 1315.9784 | L23: 5450.399 | M23: =SUM(N23:R23) -> 13028.448 | N23: 8038.089 | O23: 2286.07 | P23: 811.845 | Q23: 289.995 | R23: 1602.449 | S23: =SUM(T23:W23) -> 0 | T23: 0 | U23: 0 | V23: 0 | W23: 0
B24: =IF(L!$A$1=1,L!B26,IF(L!$A$1=2,L!C26,L!D26)) -> 2007 Prill | C24: =D24+S24 -> 40614.832 | D24: =E24+M24 -> 40614.832 | E24: =F24+G24+H24+I24+L24 -> 28210.027 | F24: 7576.416 | G24: 6474.057 | H24: 965.381 | I24: =SUM(J24:K24) -> 11031.16 | J24: 9740.0722 | K24: 1291.0878 | L24: 2163.013 | M24: =SUM(N24:R24) -> 12404.805 | N24: 7608.076 | O24: 2162.175 | P24: 763.961 | Q24: 303.531 | R24: 1567.062 | S24: =SUM(T24:W24) -> 0 | T24: 0 | U24: 0 | V24: 0 | W24: 0
B25: =IF(L!$A$1=1,L!B27,IF(L!$A$1=2,L!C27,L!D27)) -> 2007 Maj | C25: =D25+S25 -> 56004.921 | D25: =E25+M25 -> 56004.921 | E25: =F25+G25+H25+I25+L25 -> 42018.726 | F25: 10469.166 | G25: 7347.458 | H25: 972.16 | I25: =SUM(J25:K25) -> 15945.985 | J25: 9690.4598 | K25: 6255.5252 | L25: 7283.957 | M25: =SUM(N25:R25) -> 13986.195 | N25: 9208.377 | O25: 1604.981 | P25: 707.158 | Q25: 335.922 | R25: 2129.757 | S25: =SUM(T25:W25) -> 0 | T25: 0 | U25: 0 | V25: 0 | W25: 0
B26: =IF(L!$A$1=1,L!B28,IF(L!$A$1=2,L!C28,L!D28)) -> 2007 Qershor | C26: =D26+S26 -> 44596.952 | D26: =E26+M26 -> 44596.952 | E26: =F26+G26+H26+I26+L26 -> 32355.432 | F26: 9248.855 | G26: 8231.215 | H26: 915.015 | I26: =SUM(J26:K26) -> 10332.893 | J26: 9185.052 | K26: 1147.841 | L26: 3627.454 | M26: =SUM(N26:R26) -> 12241.52 | N26: 7758.039 | O26: 1357.227 | P26: 655.343 | Q26: 323.694 | R26: 2147.217 | S26: =SUM(T26:W26) -> 0 | T26: 0 | U26: 0 | V26: 0 | W26: 0
B27: =IF(L!$A$1=1,L!B29,IF(L!$A$1=2,L!C29,L!D29)) -> 2007 Korrik | C27: =D27+S27 -> 46989.259 | D27: =E27+M27 -> 46989.259 | E27: =F27+G27+H27+I27+L27 -> 31969.909 | F27: 8286.166 | G27: 7509.774 | H27: 900.482 | I27: =SUM(J27:K27) -> 10833.794 | J27: 9530.2883 | K27: 1303.5057 | L27: 4439.693 | M27: =SUM(N27:R27) -> 15019.35 | N27: 8937.216 | O27: 1888.963 | P27: 687.897 | Q27: 258.861 | R27: 3246.413 | S27: =SUM(T27:W27) -> 0 | T27: 0 | U27: 0 | V27: 0 | W27: 0
B28: =IF(L!$A$1=1,L!B30,IF(L!$A$1=2,L!C30,L!D30)) -> 2007 Gusht | C28: =D28+S28 -> 42151.337 | D28: =E28+M28 -> 42151.337 | E28: =F28+G28+H28+I28+L28 -> 29792.291 | F28: 9166.9031 | G28: 6009.5238 | H28: 536.06996 | I28: =SUM(J28:K28) -> 10400.372 | J28: 8763.0894 | K28: 1637.2822 | L28: 3679.4222 | M28: =SUM(N28:R28) -> 12359.047 | N28: 8182.1325 | O28: 1177.9376 | P28: 427.72466 | Q28: 142.08762 | R28: 2429.1644 | S28: =SUM(T28:W28) -> 0 | T28: 0 | U28: 0 | V28: 0 | W28: 0
B29: =IF(L!$A$1=1,L!B31,IF(L!$A$1=2,L!C31,L!D31)) -> 2007 Shtator | C29: =D29+S29 -> 41261.875 | D29: =E29+M29 -> 41261.875 | E29: =F29+G29+H29+I29+L29 -> 32947.71 | F29: 8658.0981 | G29: 5901.9398 | H29: 491.02475 | I29: =SUM(J29:K29) -> 10884.036 | J29: 9823.7817 | K29: 1060.2547 | L29: 7012.6111 | M29: =SUM(N29:R29) -> 8314.1644 | N29: 2377.295 | O29: 1746.3284 | P29: 434.36727 | Q29: 245.43025 | R29: 3510.7435 | S29: =SUM(T29:W29) -> 0 | T29: 0 | U29: 0 | V29: 0 | W29: 0
B30: =IF(L!$A$1=1,L!B32,IF(L!$A$1=2,L!C32,L!D32)) -> 2007 Tetor | C30: =D30+S30 -> 74419.12 | D30: =E30+M30 -> 74419.12 | E30: =F30+G30+H30+I30+L30 -> 57142.776 | F30: 8641.5956 | G30: 9310.611 | H30: 871.55198 | I30: =SUM(J30:K30) -> 13011.109 | J30: 9610.3582 | K30: 3400.7504 | L30: 25307.908 | M30: =SUM(N30:R30) -> 17276.344 | N30: 10287.57 | O30: 2195.5182 | P30: 369.73179 | Q30: 190.53845 | R30: 4232.9862 | S30: =SUM(T30:W30) -> 0 | T30: 0 | U30: 0 | V30: 0 | W30: 0
B31: =IF(L!$A$1=1,L!B33,IF(L!$A$1=2,L!C33,L!D33)) -> 2007 Nëntor | C31: =D31+S31 -> 71524.029 | D31: =E31+M31 -> 71524.029 | E31: =F31+G31+H31+I31+L31 -> 48832.8 | F31: 9141.3772 | G31: 13398.033 | H31: 942.64325 | I31: =SUM(J31:K31) -> 14079.768 | J31: 9946.7678 | K31: 4133 | L31: 11270.979 | M31: =SUM(N31:R31) -> 22691.229 | N31: 12848.704 | O31: 3235.8078 | P31: 642.80767 | Q31: 358.99099 | R31: 5604.9188 | S31: =SUM(T31:W31) -> 0 | T31: 0 | U31: 0 | V31: 0 | W31: 0
B32: =IF(L!$A$1=1,L!B34,IF(L!$A$1=2,L!C34,L!D34)) -> 2007 Dhjetor | C32: =D32+S32 -> 108290.53 | D32: =E32+M32 -> 108290.53 | E32: =F32+G32+H32+I32+L32 -> 86669.377 | F32: 10255.607 | G32: 22274.56 | H32: 1424.8774 | I32: =SUM(J32:K32) -> 14383.432 | J32: 9595.4897 | K32: 4787.9422 | L32: 38330.902 | M32: =SUM(N32:R32) -> 21621.148 | N32: 9450.3091 | O32: 3337.2112 | P32: 1173.3574 | Q32: 300.7418 | R32: 7359.5287 | S32: =SUM(T32:W32) -> 0 | T32: 0 | U32: 0 | V32: 0 | W32: 0
B33: =IF(L!$A$1=1,L!B35,IF(L!$A$1=2,L!C35,L!D35)) -> Gjithsej 2007 | C33: =D33+S33 -> 661208.09 | D33: =E33+M33 -> 661208.09 | E33: =F33+G33+H33+I33+L33 -> 494111.37 | F33: 107836.34 | G33: 104710.21 | H33: 10434.876 | I33: =SUM(J33:K33) -> 150266.78 | J33: 113922.19 | K33: 36344.588 | L33: 120863.16 | M33: =SUM(N33:R33) -> 167096.72 | N33: 100676.55 | O33: 22307.436 | P33: 7458.5438 | Q33: 2750.7441 | R33: 33903.447 | S33: =SUM(T33:W33) -> 0 | T33: 0 | U33: 0 | V33: 0 | W33: 0
A34: 2008 | B34: =IF(L!$A$1=1,L!B36,IF(L!$A$1=2,L!C36,L!D36)) -> 2008 Janar | C34: =D34+S34 -> 30977.924 | D34: =E34+M34 -> 30977.924 | E34: =F34+G34+H34+I34+L34 -> 27887.161 | F34: 4500.756 | G34: 2256.904 | H34: 192.987 | I34: =SUM(J34:K34) -> 20911.514 | J34: 9436.7519 | K34: 11474.762 | L34: 25 | M34: =SUM(N34:R34) -> 3090.763 | N34: 2965.083 | O34: 80.259 | P34: 45.421 | Q34: 0 | R34: 0 | S34: =SUM(T34:W34) -> 0 | T34: 0 | U34: 0 | V34: 0
B35: =IF(L!$A$1=1,L!B37,IF(L!$A$1=2,L!C37,L!D37)) -> 2008 Shkurt | C35: =D35+S35 -> 42443.309 | D35: =E35+M35 -> 42443.309 | E35: =F35+G35+H35+I35+L35 -> 31455.322 | F35: 8891.286 | G35: 5494.475 | H35: 912.708 | I35: =SUM(J35:K35) -> 16156.853 | J35: 8929.3107 | K35: 7227.5423 | L35: 0 | M35: =SUM(N35:R35) -> 10987.987 | N35: 9211.444 | O35: 1220.856 | P35: 547.437 | Q35: 8.25 | R35: 0 | S35: =SUM(T35:W35) -> 0 | T35: 0 | U35: 0 | V35: 0 | W35: 0
B36: =IF(L!$A$1=1,L!B38,IF(L!$A$1=2,L!C38,L!D38)) -> 2008 Mars | C36: =D36+S36 -> 53155.235 | D36: =E36+M36 -> 53155.235 | E36: =F36+G36+H36+I36+L36 -> 44669.494 | F36: 4501.073 | G36: 7417.653 | H36: 1157.031 | I36: =SUM(J36:K36) -> 21129.915 | J36: 11259 | K36: 9870.9149 | L36: 10463.822 | M36: =SUM(N36:R36) -> 8485.741 | N36: 4937.555 | O36: 1915.604 | P36: 785.818 | Q36: 119.936 | R36: 726.828 | S36: =SUM(T36:W36) -> 0 | T36: 0 | U36: 0 | V36: 0 | W36: 0
B37: =IF(L!$A$1=1,L!B39,IF(L!$A$1=2,L!C39,L!D39)) -> 2008 Prill | C37: =D37+S37 -> 69128.551 | D37: =E37+M37 -> 69128.551 | E37: =F37+G37+H37+I37+L37 -> 46136.017 | F37: 17534.45 | G37: 9213.7347 | H37: 1375.0349 | I37: =SUM(J37:K37) -> 14384.612 | J37: 12706.507 | K37: 1678.1044 | L37: 3628.1863 | M37: =SUM(N37:R37) -> 22992.534 | N37: 16863.321 | O37: 2393.2908 | P37: 972.92296 | Q37: 324.71976 | R37: 2438.2789 | S37: =SUM(T37:W37) -> 0 | T37: 0 | U37: 0 | V37: 0 | W37: 0
B38: =IF(L!$A$1=1,L!B40,IF(L!$A$1=2,L!C40,L!D40)) -> 2008 Maj | C38: =D38+S38 -> 56931.714 | D38: =E38+M38 -> 56931.714 | E38: =F38+G38+H38+I38+L38 -> 41685.101 | F38: 10199.211 | G38: 7678.1744 | H38: 890.66732 | I38: =SUM(J38:K38) -> 12716.229 | J38: 11662.078 | K38: 1054.1508 | L38: 10200.819 | M38: =SUM(N38:R38) -> 15246.613 | N38: 8895.8533 | O38: 2094.7329 | P38: 622.3385 | Q38: 389.49439 | R38: 3244.1937 | S38: =SUM(T38:W38) -> 0 | T38: 0 | U38: 0 | V38: 0 | W38: 0
B39: =IF(L!$A$1=1,L!B41,IF(L!$A$1=2,L!C41,L!D41)) -> 2008 Qershor | C39: =D39+S39 -> 74080.246 | D39: =E39+M39 -> 74080.246 | E39: =F39+G39+H39+I39+L39 -> 58220.016 | F39: 9996.9057 | G39: 8279.1666 | H39: 625.39716 | I39: =SUM(J39:K39) -> 14461.343 | J39: 11700.191 | K39: 2761.1526 | L39: 24857.203 | M39: =SUM(N39:R39) -> 15860.23 | N39: 10032.982 | O39: 1737.6165 | P39: 376.32495 | Q39: 433.47834 | R39: 3279.8283 | S39: =SUM(T39:W39) -> 0 | T39: 0 | U39: 0 | V39: 0 | W39: 0
B40: =IF(L!$A$1=1,L!B42,IF(L!$A$1=2,L!C42,L!D42)) -> 2008 Korrik | C40: =D40+S40 -> 69202.219 | D40: =E40+M40 -> 62889.986 | E40: =F40+G40+H40+I40+L40 -> 47287.814 | F40: 10603.943 | G40: 9068.5647 | H40: 972.18996 | I40: =SUM(J40:K40) -> 12924.455 | J40: 11681.688 | K40: 1242.7667 | L40: 13718.661 | M40: =SUM(N40:R40) -> 15602.172 | N40: 8818.2022 | O40: 2096.8677 | P40: 590.85696 | Q40: 313.94475 | R40: 3782.3002 | S40: =SUM(T40:W40) -> 6312.2332 | T40: 0 | U40: 0 | V40: 6312.2332 | W40: 0
B41: =IF(L!$A$1=1,L!B43,IF(L!$A$1=2,L!C43,L!D43)) -> 2008 Gusht | C41: =D41+S41 -> 63645.908 | D41: =E41+M41 -> 63645.908 | E41: =F41+G41+H41+I41+L41 -> 49434.23 | F41: 8716.5756 | G41: 6592.2512 | H41: 419.32594 | I41: =SUM(J41:K41) -> 13027.909 | J41: 11570.82 | K41: 1457.0888 | L41: 20678.169 | M41: =SUM(N41:R41) -> 14211.678 | N41: 8598.7946 | O41: 1342.3411 | P41: 341.9512 | Q41: 313.72382 | R41: 3614.8673 | S41: =SUM(T41:W41) -> 0 | T41: 0 | U41: 0 | V41: 0 | W41: 0
B42: =IF(L!$A$1=1,L!B44,IF(L!$A$1=2,L!C44,L!D44)) -> 2008 Shtator | C42: =D42+S42 -> 84477.39 | D42: =E42+M42 -> 83666.828 | E42: =F42+G42+H42+I42+L42 -> 64429.787 | F42: 9429.4391 | G42: 7558.4256 | H42: 866.85007 | I42: =SUM(J42:K42) -> 18858.703 | J42: 11606.289 | K42: 7252.4138 | L42: 27716.369 | M42: =SUM(N42:R42) -> 19237.041 | N42: 10082.722 | O42: 2479.2782 | P42: 382.37725 | Q42: 283.15422 | R42: 6009.5096 | S42: =SUM(T42:W42) -> 810.56232 | T42: 0 | U42: 0 | V42: 810.56232 | W42: 0
B43: =IF(L!$A$1=1,L!B45,IF(L!$A$1=2,L!C45,L!D45)) -> 2008 Tetor | C43: =D43+S43 -> 90928.974 | D43: =E43+M43 -> 89904.515 | E43: =F43+G43+H43+I43+L43 -> 69560.796 | F43: 9679.237 | G43: 9218.2913 | H43: 867.4883 | I43: =SUM(J43:K43) -> 19347.236 | J43: 11452.587 | K43: 7894.6493 | L43: 30448.543 | M43: =SUM(N43:R43) -> 20343.719 | N43: 10303.855 | O43: 2964.9979 | P43: 542.28293 | Q43: 403.85307 | R43: 6128.7294 | S43: =SUM(T43:W43) -> 1024.4593 | T43: 0 | U43: 0 | V43: 1024.4593 | W43: 0
...

Sheet Shënimet | Napomene | Notes
A1: Shënime të përgjithshme:
A2: Ky publikim paraqet të dhënat e pranimeve dhe pagesave në baza mujore dhe paraqet bazë të mirë për analiza të ndryshme. Të dhënat paraqesin vlerat historike për periudhën Janar 2006 deri Shtator 2026 Këto të dhëna janë të harmonizuara me Pasqyrat Financiare të audituara për vitet përkatëse të publikuara në ueb faqen e Ministrisë së Financave, Punë dhe Transfereve Shpalosja e këtij raporti është në nivel të kategorive ekonomike. Detajet për secilën kategori gjenden në pasqyrat financiare.
A3: Fondet ne mirebesim nuk janë të përfshira në këtë verzion
A4: Tre muajt e fundit janë preliminarë deri ne publikimin e Pasqyrave Financiare.
A5: Viti i fundit është preliminar deri në publikimin e Pasqyrave të Audituara Vjetore.
A7: Shënime tjera:
A8: /1 - Në vitin 2006 shpërndarja e të hyrave nëpër muaj anon në muajin Dhjetor për shkak të praktikës së atëhershme të zbrazjes së llogarive në fund të vitit.
A9: /2 - Në muajin Janar të vitit 2018 është i përfshire pranimi i njëhershem nga Fondi i Kursimeve Pensionale të Kosovës në shume prej 9,967,983.00 €.
A10: /3 - Në muajin gusht nuk është ekzekutuar një pjesë e çekut të pagave në shumë prej 22.68 mil. - Pagesa është ekzekutuar në muajin shtator.
A11: Opšte napomene:
A12: Ova publikacija predstavlja podatke o primanjima i isplatama na mesečnom nivou i predstavlja dobru osnovu za različite analize. Podaci predstavljaju istorijske iznose za period od januar 2006. do Septembar 2026 Ovi podaci su usklađeni sa revidiranim finansijskim izveštajima za odgovarajuće godine objavljene na sajtu Ministarstva finansija. Objavljivanje ovog izveštaja je na nivou ekonomskih kategorija. Detalji za svaku kategoriju nalaze se u finansijskim izveštajima.
A13: Poverenja fondovi nisu uključeni u ovu verziju
... A38: 2012-Mallrat dhe sherbimet palet e treta

Sheet L
A1: 1
A2: Shqip | G2: Tabela 1: Pagesat
A3: Srpski | G3: Vlerat janë në Mijëra Euro.
A4: English | G4: Viti | H4: Viti / Muaji | I4: Gjithsejt Pagesat | J4: Shpenzimet | K4: Qeveria Qendrore | L4: Paga | M4: Mallëra dhe shërbime | N4: Shpenzime komunale | O4: Subvencione dhe Transfere | P4: Transfere Sociale | Q4: Subvencione | R4: Shpenzime Kapitale | S4: Qeveria Lokale | T4: Paga | U4: Mallra dhe shërbime | V4: Shpenzime komunale | W4: Subvencione dhe Transfere | X4: Shpenzime Kapitale | Y4: Pagesat për financim | Z4: Kryegjëja | AA4: Interesi | AB4: Huadhënia për NP | AC4: Antarësimi në IFN
A5: Türk
A6: Français | G6: Tabela 2: Pranimet
G7: Vlerat janë në Mijëra Euro.
G8: Viti | H8: Viti / Muaji | I8: Gjithsej Pranimet | J8: Të Hyrat Buxhetore | K8: Të Hyrat Tatimore | L8: Tatimet direkte | M8: Tatimi në të ardhura të koorporatave | N8: Tatimi në të ardhura personale | O8: Tatimi në pronë | P8: Tatimet tjera direkte | Q8: Tatimet indirekte | R8: TVSH-ja | S8: TVSH e brendshme | T8: TVSH në kufi | U8: Detyrimi Doganor | V8: Akcizat | W8: Tatimet tjera indirekte | X8: Kthimet tatimore | Y8: Të Hyrat Jo-Tatimore | Z8: Taksa ngarkesa dhe tjera nga Qeveria Qendrore | AA8: Taksa ngarkesa dhe tjera nga Qeveria Lokale | AB8: Taksa Koncesionare | AC8: Tantiema | AD8: Dividenda | AE8: Pranimet nga Financimi | AF8: Pranimet tjera | AG8: Të hyrat e dedikuara | AH8: Grantet për përkrahje të buxhetit | AI8: Të hyrat nga Privatizimi | AJ8: Kthimi i kredive nga Ndërmarrjet Publike | AK8: Huazimet | AL8: Huazimet e jashtme shtetërore | AM8: Huazimet e brendëshme shtetërore
B9: Shqip | C9: Srpski | D9: English
B10: 2006 Janar | C10: 2006 Januar | D10: 2006 January
B11: 2006 Shkurt | C11: 2006 Februar | D11: 2006 February | G11: Tabela 1: Plaćanja
B12: 2006 Mars | C12: 2006 Mart | D12: 2006 March | G12: Iznosi su u hiljadama Evra.
B13: 2006 Prill | C13: 2006 April | D13: 2006 April | G13: Godina | H13: Godina / Mesec | I13: Ukupno plaćanja | J13: Troškovi | K13: Centralna vlada | L13: Plate | M13: Roba i usluge | N13: Komunalije | O13: Subvencije i transferi | P13: Socijalni transferi | Q13: Subvencije | R13: Kapitalni troškovi | S13: Lokalna vlada | T13: Plate | U13: Roba i usluge | V13: Komunalije | W13: Subvencije i transferi | X13: Kapitalni troškovi | Y13: Isplate za finansiranje | Z13: Glavnica | AA13: Kamata | AB13: Pozajmljivanje za JP | AC13: Članstvo u MFI
B14: 2006 Maj | C14: 2006 Maj | D14: 2006 May
B15: 2006 Qershor | C15: 2006 Juni | D15: 2006 June
B16: 2006 Korrik | C16: 2006 Juli | D16: 2006 July | G16: Tabela 2: Prijemi
B17: 2006 Gusht | C17: 2006 Avgust | D17: 2006 August | G17: Iznosi su u hiljadama Evra.
B18: 2006 Shtator | C18: 2006 Septembar | D18: 2006 September | G18: Godina | H18: Godina / Mesec | I18: Ukupni prijemi | J18: Budžetski prihodi | K18: Porezni prihodi | L18: Direktni porezi | M18: Porez na prihode korporacija | N18: Porez na lični dohodak | O18: Porez na imovinu | P18: Ostali direktni porezi | Q18: Indirektni porezi | R18: PDV | S18: Unutrašnji PDV | T18: PDV na granici | U18: Carine | V18: Akcize | W18: Ostali indirektni porezi | X18: Poreske prijave | Y18: Neporeski prihodi | Z18: Takse, naknade i ostale od centralne vlade | AA18: Takse, naknade i ostale od lokalne vlade | AB18: Koncesione takse | AC18: Tantijeme | AD18: Dividende | AE18: Primanja od finansiranja | AF18: Ostala primanja | AG18: Namenjeni prihodi | AH18: Grantovi za podršku budžetu | AI18: Prihodi od privatizacije | AJ18: Vraćenje kredita od javnih preduzeća | AK18: Krediti | AL18: Spoljni državni krediti | AM18: Unutrašnji državni krediti
B19: 2006 Tetor | C19: 2006 Oktobar | D19: 2006 October
B20: 2006 Nëntor | C20: 2006 Novembar | D20: 2006 November
B21: 2006 Dhjetor /1 | C21: 2006 Decembar | D21: 2006 December | G21: Table 1: Payments
B22: Gjithsej 2006 | C22: Ukupno 2006 | D22: 2006 Total | G22: Values are in Thousand Euros.
B23: 2007 Janar | C23: 2007 Januar | D23: 2007 January | G23: Year | H23: Year/Month | I23: Total Payments | J23: Budget Expenditures | K23: Central Government | L23: Wages and Salaries | M23: Goods and Services | N23: Utilities | O23: Subventions and Transfers | P23: Social Transfers | Q23: Subventions | R23: Capital Investments | S23: Local Government | T23: Wages and Salaries | U23: Goods and Services | V23: Utilities | W23: Subventions and Transfers | X23: Capital Investments | Y23: Financing | Z23: Principal | AA23: Interest | AB23: Loans for PU | AC23: IFI Membership
B24: 2007 Shkurt | C24: 2007 Februar | D24: 2007 February
B25: 2007 Mars | C25: 2007 Mart | D25: 2007 March
B26: 2007 Prill | C26: 2007 April | D26: 2007 April | G26: Table 2: Receipts
B27: 2007 Maj | C27: 2007 Maj | D27: 2007 May | G27: Values are in Thousands Euros
B28: 2007 Qershor | C28: 2007 Juni | D28: 2007 June | G28: Year | H28: Year / Month | I28: Total Receipts | J28: Budget Revenues | K28: Tax Revenues | L28: Direct Taxes | M28: Corporate Income Tax | N28: Personal Income Tax | O28: Property Tax | P28: Other Direct Taxes | Q28: Indirect Taxes | R28: VAT | S28: In Country VAT | T28: Border VAT | U28: Custom Duties | V28: Excise | W28: Other indirect taxes | X28: Tax Returns | Y28: Non-Tax Revenues | Z28: Fees, Charges and others from Central Government | AA28: Fees, Charges and others from Local Government | AB28: Concessionary Fee | AC28: Royalties | AD28: Dividends | AE28: Receipts from Financing | AF28: Other Revenues | AG28: Didecated Revenues | AH28: Budget Support Grants | AI28: Revenues form Liquidation | AJ28: Return of Loans from PU | AK28: Loans | AL28: External State Loans | AM28: Internal state Loans
B29: 2007 Korrik | C29: 2007 Juli | D29: 2007 July
B30: 2007 Gusht | C30: 2007 Avgust | D30: 2007 August
B31: 2007 Shtator | C31: 2007 Septembar | D31: 2007 September
B32: 2007 Tetor | C32: 2007 Oktobar | D32: 2007 October
B33: 2007 Nëntor | C33: 2007 Novembar | D33: 2007 November
B34: 2007 Dhjetor | C34: 2007 Decembar | D34: 2007 December
B35: Gjithsej 2007 | C35: Ukupno 2007 | D35: 2007 Total
B36: 2008 Janar | C36: 2008 Januar | D36: 2008 January
B37: 2008 Shkurt | C37: 2008 Februar | D37: 2008 February
B38: 2008 Mars | C38: 2008 Mart | D38: 2008 March
B39: 2008 Prill | C39: 2008 April | D39: 2008 April
B40: 2008 Maj | C40: 2008 Maj | D40: 2008 May
...
